BEGIN:VCALENDAR
VERSION:2.0
PRODID:-//MND Malaysia - ECPv6.3.7//NONSGML v1.0//EN
CALSCALE:GREGORIAN
METHOD:PUBLISH
X-WR-CALNAME:MND Malaysia
X-ORIGINAL-URL:https://mndmalaysia.org/en_gb
X-WR-CALDESC:Events for MND Malaysia
REFRESH-INTERVAL;VALUE=DURATION:PT1H
X-Robots-Tag:noindex
X-PUBLISHED-TTL:PT1H
BEGIN:VTIMEZONE
TZID:Asia/Kuala_Lumpur
BEGIN:STANDARD
TZOFFSETFROM:+0800
TZOFFSETTO:+0800
TZNAME:+08
DTSTART:20210101T000000
END:STANDARD
END:VTIMEZONE
BEGIN:VEVENT
DTSTART;TZID=Asia/Kuala_Lumpur:20210227T100000
DTEND;TZID=Asia/Kuala_Lumpur:20210227T163000
DTSTAMP:20260426T110704
CREATED:20210307T160915Z
LAST-MODIFIED:20221229T100530Z
UID:2403-1614420000-1614443400@mndmalaysia.org
SUMMARY:LIVE WEBINAR – series 1 “MND BEYOND BORDERS” – the educational series
DESCRIPTION: LIVE WEBINAR in 2 sessions (AM Session for HealthCare Professionals | PM session for Patients & Carers \n\n“TO KNOW ABOUT MOTOR NEURON DISEASE (MND)” \n  \nJoin us LIVE webinar! On 27th-February (Saturday)\, in our “MND Beyond Borders” free-webinar session to know about Motor Neuron Disease (MND). \n  \nSPEAKERS from Singapore\, Indonesia & MalaysiaWEBINAR runs in 2 sessions (AM session & PM session). \n  \nLanguage: English \n  \nWEBINAR IS FREE to all participants \n  \n**Sessions open to participants beyond borders** \n LIVE WEBINAR in 2 session (AM Session for HealthCare Professionals | PM session for Patients & Carers \n  \n\nAM Session for HealthCare Professionals\n  \n>>AM-SESSION<< 10am – 12:30pm (Malaysia Time) for HealthCare Professionals Free Registration forms.gle/WwUSmWJR5JYJoY5W8 \n  \n*Link in IG Bio* instagraming @mnd.malaysia \n  \n\nPM Session for Patients & Carers (PALS & CALS)\n  \n>>PM-SESSION<< 2pm – 4:30pm (Malaysia Time) for PALS & CALS. \nFree Registration forms.gle/B4jggUwBPUmT9ziUA \n  \n*Link in IG Bio* \ninstagraming @mnd.malaysia \n  \nEnquire us: mndmalaysia.edu@gmail.com \n  \n  \n  \nwww.mndMalaysia.org \n  \n#ALSMNDWithoutBorders \n  \n#mndMalaysia \n  \n#AmbassadorOFmndMalaysia \n  \n  \n  \nReach-Us-Here:\n  \nWebsite: www.mndMalaysia.org \n  \nFacebook: MND Malaysia  \n  \nInstagram: mnd.malaysia \n  \nYoutube: Motor Neurone Disease Malaysia – MND Malaysia  \n 
URL:https://mndmalaysia.org/en_gb/event/live-webinar-series-1-mnd-beyond-borders-the-educational-series/
CATEGORIES:Awareness,Charity,Educational,Training
ATTACH;FMTTYPE=image/jpeg:https://mndmalaysia.org/wp-content/uploads/2021/02/Webinar-series-1.jpg
ORGANIZER;CN="MND Malaysia":MAILTO:mndmalaysia@gmail.com
END:VEVENT
END:VCALENDAR