BEGIN:VCALENDAR
VERSION:2.0
PRODID:-//MND Malaysia - ECPv6.3.7//NONSGML v1.0//EN
CALSCALE:GREGORIAN
METHOD:PUBLISH
X-WR-CALNAME:MND Malaysia
X-ORIGINAL-URL:https://mndmalaysia.org/en_gb
X-WR-CALDESC:Events for MND Malaysia
REFRESH-INTERVAL;VALUE=DURATION:PT1H
X-Robots-Tag:noindex
X-PUBLISHED-TTL:PT1H
BEGIN:VTIMEZONE
TZID:Asia/Kuala_Lumpur
BEGIN:STANDARD
TZOFFSETFROM:+0800
TZOFFSETTO:+0800
TZNAME:+08
DTSTART:20210101T000000
END:STANDARD
END:VTIMEZONE
BEGIN:VEVENT
DTSTART;TZID=Asia/Kuala_Lumpur:20210717T100000
DTEND;TZID=Asia/Kuala_Lumpur:20210717T121000
DTSTAMP:20260425T184930
CREATED:20210704T095850Z
LAST-MODIFIED:20221229T094134Z
UID:2677-1626516000-1626523800@mndmalaysia.org
SUMMARY:(AM-Session for HealthCare Professionals) - Topic: NIV & SLEEP in MND
DESCRIPTION:>> AM-Session for HealthCare Professional (HCP) >> Registration >> LIVE WEBINAR on 6th-Series (17th-JULY’2021) @ 10:00am to 12:10pm\nAll you want to know about “Motor Neurone Disease (MND)\n“MND BEYOND BORDERS – the educational series”\n\n  \nTopic: NIV & SLEEP in MND\n(AM-Session for HealthCare Professionals) – Topic: NIV & SLEEP in MND\nOn 17th-July’2021 (Saturday)\, our morning AM-Session (10:00am to 12:10pm) for HealthCare Professionals (HCP) with topic of the day is “Non-Invasive Ventilation (NIV) & Sleep in MND”; by 2 of our speakers from Malaysia\, Dr. Ian and Dr. Raymund.  REGISTER NOW to join this 6th-Series LIVE WEBINAR of “MND BEYOND BORDERS”.\nDr. Ian is a Pulmonologist & Internal Medicine Consultant at UMMC\, Malaysia.  His field of interests is on Non-Invasive Ventilation and Interventional Pulmonology.\nDr. Raymund is a Pulmonologist & Internal Medicine Consultant at Hospital Seremban\, Malaysia.  He had a keen interest in Adult Sleep Science.\nThis is a morning AM-Session webinar for HealthCare Provider (HCP) and it’s FREE-to-Join with registration\, please refer to the required session details below for your registration.\nAny enquiries about our “MND BEYOND BORDERS – the educational series”\, please email us >> mndmalaysia.edu@gmail.com <<\n \n \n\nTo REGISTER for AM-Session for “HealthCare Profesional (HCP) @ 10:00am – 12:10pm (Malaysia Time) please click on the picture-link below to register.\n>> if you are looking to register for PM-Session (for PALS & CALS) @ 2:00pm – 3:30pm\, please CLICK-HERE << \n \n\n*FREE-to-join-Webinar-with-Registration*\n************************************************************************************************************************************ \n\nREGISTRATION for morning AM-Session for HealthCare Professional (HCP)\n \n\n1) AM-SESSION (for HCP – HealthCare Professionals)\n \n\nDate: 17th-July-2021 (Saturday)\n\nMalaysia-Time 10:00am to 12:10pm\n \n\n*CLICK PICTURE or SCAN-QR-CODE TO REGISTER*\nAM-Session Registration\n  \n  \n\n(Morning) AM-Session for HealthCare Professional (HCP) @ 10am-12:10pm\n  \n************************************************************************************************************************************ \n  \n\nORGANIZED BY:\n\n\n\nMND Malaysia\n\n\n\n\n\nTTSH Home Ventilation Respiratory Support Service – HVRSS\n\n\n\n\n\nYayasan ALS Indonesia\n\n\n  \n\n************************************************************************************************************************************ \n  \n\nTO KNOW WHAT MOTOR NEURONE DISEASE (MND) IS….. CLICK HERE\nwe are MND Malaysia
URL:https://mndmalaysia.org/en_gb/event/am-session-for-healthcare-professionals-topic-niv-sleep-in-mnd/
LOCATION:Zoom
CATEGORIES:Awareness,Charity,Educational,Forum,Fundraising
ATTACH;FMTTYPE=image/png:https://mndmalaysia.org/wp-content/uploads/2021/07/AM-Session-Banner.png
ORGANIZER;CN="MND Malaysia":MAILTO:mndmalaysia@gmail.com
END:VEVENT
BEGIN:VEVENT
DTSTART;TZID=Asia/Kuala_Lumpur:20210717T140000
DTEND;TZID=Asia/Kuala_Lumpur:20210717T153000
DTSTAMP:20260425T184930
CREATED:20210704T102217Z
LAST-MODIFIED:20221229T093852Z
UID:2688-1626530400-1626535800@mndmalaysia.org
SUMMARY:(PM-Session for PALS & CALS) - Topic: Will Writing - What You Should Know (Malaysia)
DESCRIPTION:>> PM-Session for PALS & CALS >> Registration >> LIVE WEBINAR on 6th-Series (17th-JULY’2021) @ 2:00pm to 3:30pm\n-All you want to know about “Motor Neurone Disease (MND)-\n“MND BEYOND BORDERS – the educational series”\nTopic: Will Writing – What You Should Know (Malaysia) \n(PM-Session for PALS & CALS) – Topic: Will Writing – What You Should Know (Malaysia)\nOn 17th-July’2021 (Saturday)\, our afternoon PM-Session (2:00pm to 3:30pm) for PALS & CALS (Patients & Carers) topic of the day is “WILL WRITING – What You Should Know (Malaysia)”; by our esteem guest speaker from Malaysia\, Mr. Gan Chee Wei.  REGISTER NOW to join this 6th-Series LIVE WEBINAR of “MND BEYOND BORDERS”.\nMr. Gan Chee Wei is a graduate from University of Malaya\, Law Facultu\, LLB (Hons) Malaya and a founding partner in Messrs Koh Gan Lian & TEoh.  He has been practising Law since 2011. He holds a number of positions in NGO-including VP of the Young Buddhist Association of Malaysia.  We are priviledged to have our esteem guest impart his knowledge on legality of will writing.\n  \nThis is an afternoon PM-Session webinar for PALS & CALS and it’s FREE-to-Join with registration\, please refer to the required session details below for your registration.\n \nAny enquiries about our “MND BEYOND BORDERS – the educational series”\, please email us >> mndmalaysia.edu@gmail.com <<\n \n \nTo REGISTER for PM-Session for “PALS & CALS” @ 2:00pm – 3:30pm (Malaysia Time) please click on the picture-link below to register.\n>> To Register for AM-Session for HealthCare Provide (HCP) @ 10pm – 12pm\, please CLICK-HERE << \n \n \n*FREE-to-join-Webinar-with-Registration*\n************************************************************************************************************************************ \nREGISTRATION for afternoon PM-Session for PALS & CALS\n \n1) PM-SESSION (for PALS & CALS)\n \nDate: 17th-July-2021 (Saturday)\n \nMalaysia-Time 2:00pm to 3:30pm\n \n*CLICK PICTURE or SCAN-QR-CODE TO REGISTER*\nPM-Session \n  \n  \n(Afternoon) PM-Session for PALS & CALS \n************************************************************************************************************************************ \n  \nORGANIZED BY:\n\nMND Malaysia\n\n\nTTSH Home Ventilation Respiratory Support Service – HVRSS\n\n\nYayasan ALS Indonesia\n\n  \n************************************************************************************************************************************ \nTO KNOW WHAT MOTOR NEURONE DISEASE (MND) IS….. CLICK HERE\nwe are MND Malaysia
URL:https://mndmalaysia.org/en_gb/event/pm-session-for-pals-cals-topic-will-writing-what-you-should-know-malaysia/
LOCATION:Zoom
CATEGORIES:Awareness,Charity,Educational,Forum,Fundraising,Training
ATTACH;FMTTYPE=image/png:https://mndmalaysia.org/wp-content/uploads/2021/07/PM-Session-Banner.png
ORGANIZER;CN="MND Malaysia":MAILTO:mndmalaysia@gmail.com
END:VEVENT
END:VCALENDAR