BEGIN:VCALENDAR
VERSION:2.0
PRODID:-//MND Malaysia - ECPv6.3.7//NONSGML v1.0//EN
CALSCALE:GREGORIAN
METHOD:PUBLISH
X-ORIGINAL-URL:https://mndmalaysia.org/en_gb
X-WR-CALDESC:Events for MND Malaysia
REFRESH-INTERVAL;VALUE=DURATION:PT1H
X-Robots-Tag:noindex
X-PUBLISHED-TTL:PT1H
BEGIN:VTIMEZONE
TZID:Asia/Kuala_Lumpur
BEGIN:STANDARD
TZOFFSETFROM:+0800
TZOFFSETTO:+0800
TZNAME:+08
DTSTART:20220101T000000
END:STANDARD
END:VTIMEZONE
BEGIN:VEVENT
DTSTART;TZID=Asia/Kuala_Lumpur:20220806T100000
DTEND;TZID=Asia/Kuala_Lumpur:20220806T121000
DTSTAMP:20260424T230724
CREATED:20220804T100315Z
LAST-MODIFIED:20220820T164642Z
UID:3024-1659780000-1659787800@mndmalaysia.org
SUMMARY:19th-Series (AM-Session for HealthCare Professionals) ~ "Being Real - Making Life Better"
DESCRIPTION:>> AM-Session for HealthCare Professional (HCP) >> REGISTRATION >> LIVE WEBINAR on 19th-Series (06th-AUGUST’2022/Saturday) @ 10:00am to 12:10pm\nJoin Us in our “MND BEYOND BORDERS – the educational series” All you want to know about “Motor Neurone Disease (MND)\nTopic: Being Real – Making Life Better\n\n(AM-Session for HealthCare Professionals) – Topic: Being Real – MAKING LIFE BETTER\nOn 06th-AUGUST’2022 (Saturday)\, our morning AM-Session (10:00am to 12:10pm) for HealthCare Professionals (HCP) we’ll be covering the topic of “Being Real – MAKING LIFE BETTER” in our LIVE webinar session by doctor speakers Dr. Soo Chun Ian and Case Presentation by Dr. Pek Eu Way.\nREGISTER NOW to join this 19th-Series LIVE WEBINAR of our “MND BEYOND BORDERS the educational series”.\n(Being Real – Making Life Better) ~ Dr. Soo Chun Ian is a Pulmonologist at University of Malaya Medical Centre\, Malaysia.  His field of interests are Non-Invasive Ventilation and interventional pulmonology\, he has a special interest in patients with MND.\n**Case Presentation** by ~ Dr. Pek Eu Way is specialised in Physical Medicine and Rehabilitation in University of Malaya Medical Centre\, Malaysia.  He is involved with rehabilitation care in MND patients to improve their well being with great dedication and enthusiasm.\nThis is a morning AM-Session webinar for HealthCare Provider (HCP) and it’s FREE-to-Join\, please refer to the required session details below for your FREE session link.\nAny enquiries about our “MND BEYOND BORDERS – the educational series”\, please email us at: >> mndmalaysia.edu@gmail.com <<\n\n\n\nTo REGISTER for AM-Session for “HealthCare Profesional (HCP) @ 10:00am – 12:10pm (Malaysia Time) please click on the picture-link below to register.\n>> if you are looking for PM-Session (for PALS & CALS) @ 2:00pm – 3:30pm\, please CLICK-HERE << \n\n\n\n \n*join-our-FREE-Webinar*\n************************************************************************************************************************************ \n\n\n\nREGISTRATION for morning AM-Session for HealthCare Professional (HCP)\n\n\n\n1) AM-SESSION (for HCP – HealthCare Professionals)\n\n\n\nDate: 06th-AUGUST-2022 (Saturday)\n\n\n\nSession-Time: 10:00am to 12:10pm (UTC/GMT +8 hours)\n\n\n\n*CLICK PICTURE or SCAN-QR-CODE TO JOIN*\nTopic: Being Real – Making Life Better\n  \nRegister AM-Session\n************************************************************************************************************************************ \n\n\n \nORGANIZED BY:\n\n\n\n\n \n\nTTSH Home Ventilation Respiratory Support Service – HVRSS\n \n\n\n \n\nYayasan ALS Indonesia\n \n\n\nMND Malaysia\n \n\n\n\n\n\n\n \n************************************************************************************************************************************ \n\n\n \nFIND-US-HERE:\n\n\n\n\n\n\nInstagram (IG): mnd.malaysia\n\n\n\nFacebook (FB): MND Malaysia\n\n\n\nTwitter: MndMalaysia\n\n\n\nYoutube: Motor Neurone Disease Malaysia – MND Malaysia\n\n\n\nWeb: www.mndMalaysia.org\n\n\n\nWhatsapp / Call Us: +6017.883.8839\n\n\n\n \n\n\n\n\n\n\nTO KNOW WHAT MOTOR NEURONE DISEASE (MND) IS….. CLICK HERE\nwe are MND Malaysia\n\n\n\n 
URL:https://mndmalaysia.org/en_gb/event/19th-series-am-session-for-healthcare-professionals-being-real-making-life-better/
LOCATION:Zoom
CATEGORIES:Awareness,Charity,Educational,Forum,Fundraising,Training,Workshop
END:VEVENT
BEGIN:VEVENT
DTSTART;TZID=Asia/Kuala_Lumpur:20220806T140000
DTEND;TZID=Asia/Kuala_Lumpur:20220806T153000
DTSTAMP:20260424T230724
CREATED:20220804T102029Z
LAST-MODIFIED:20220804T102217Z
UID:3028-1659794400-1659799800@mndmalaysia.org
SUMMARY:19th-Series (PM-Session for PALS & CALS) - RANCANGAN PENJAGAAN LANJUT
DESCRIPTION:>>PM-Session for Patients & Carers (PALS & CALS) >> REGISTRATION >> LIVE WEBINAR on 19th-Series (06th-AUGUST’2022/Saturday) @ 2:00pm to 3:30pm\nJoin Us in our “MND BEYOND BORDERS – the educational series” All you want to know about “Motor Neurone Disease (MND)\nTopic: RANCANGAN PENJAGAAN LANJUT\n\n(PM-Session for Patients & Carers) – Topic: RANCANGAN PENJAGAAN LANJUT\nOn 06th-AUGUST’2022 (Saturday)\, our afternoon PM-Session (2:00pm to 3:30pm) for PALS & CALS. We’ll be covering the topic of “RANCANGAN PENJAGAAN LANJUT” in our LIVE webinar session by doctor speakers Dr. Sheriza Izwa Zainuddin\n***NOTE: SESSION LANGUAGE IN BAHASA INDONESIA / BAHASA MALAYSIA*** ***Webinar akan dijalankan dalam Bahasa Indonesia / Bahasa Malaysia*** \nREGISTER NOW to join this 19th-Series LIVE WEBINAR of our “MND BEYOND BORDERS the educational series”.\n(RANCANGAN PENJAGAAN LANJUT) ~ Dr. Sheriza Izwa Zainuddin ~ Beliau adalah seorang pakar perunding paliatif di Pusat Perubatan Universiti Malaya\, Malaysia. Beliau telah lama berkecimpung di dalam bidang ini terutamanya dengan pesakit MND.\nThis is a afternoon PM-Session webinar for PALS & CALS and it’s FREE-to-Join (click the event banner below or scan the QR code).\nAny enquiries about our “MND BEYOND BORDERS – the educational series”\, please email us at: >> mndmalaysia.edu@gmail.com <<\n\n\n\nfor PM-Session for “PALS & CALS” @ 2:00pm – 3:30pm (Malaysia Time) please click on the picture-link below to JOIN on event day.\n>> To Register for AM-Session for HealthCare Provide (HCP) @ 10pm – 12.10pm\, please CLICK-HERE << \n \n\n\n\n*Catch-Us-On-FB LIVE-@ FB: MND Malaysia*\n************************************************************************************************************************************ \n\n\n\nREGISTRATION for afternoon PM-Session for Patients & Carers (PALS & CALS)\n1) PM-SESSION (for PALS & CALS)\n\n\n\nDate: 06th-AUGUST-2022 (Saturday)\n\n\n\nSession-Time: 2:00pm to 3:30pm (UTC/GMT +8 hours)\nFB-LIVE: MND Malaysia\n\n\n\n*CLICK PICTURE or SCAN-QR-CODE TO JOIN*\nTopic: RANCANGAN PENJAGAAN LANJUT\n  \nRegister PM-Session\n************************************************************************************************************************************ \n\n\n \nORGANIZED BY:\n\n\n\n\n \n\nTTSH Home Ventilation Respiratory Support Service – HVRSS\n \n\n\n \n\nYayasan ALS Indonesia\n \n\n\nMND Malaysia\n\n\n\n\n\n\n \n************************************************************************************************************************************ \n\n\n \nFIND-US-HERE:\n\n\n\n\n\n\nInstagram (IG): mnd.malaysia\n\n\n\nFacebook (FB): MND Malaysia\n\n\n\nTwitter: MndMalaysia\n\n\n\nYoutube: Motor Neurone Disease Malaysia – MND Malaysia\n\n\n\nWeb: www.mndMalaysia.org\n\n\n\nWhatsapp / Call Us: +6017.883.8839\n\n\n\n \n\n\n\n\n\n\nTO KNOW WHAT MOTOR NEURONE DISEASE (MND) IS….. CLICK HERE\nwe are MND Malaysia\n\n\n\n 
URL:https://mndmalaysia.org/en_gb/event/19th-series-pm-session-for-pals-cals-rancangan-penjagaan-lanjut/
CATEGORIES:Awareness,Charity,Educational,Forum,Fundraising
END:VEVENT
END:VCALENDAR