BEGIN:VCALENDAR
VERSION:2.0
PRODID:-//MND Malaysia - ECPv6.3.7//NONSGML v1.0//EN
CALSCALE:GREGORIAN
METHOD:PUBLISH
X-ORIGINAL-URL:https://mndmalaysia.org/en_gb
X-WR-CALDESC:Events for MND Malaysia
REFRESH-INTERVAL;VALUE=DURATION:PT1H
X-Robots-Tag:noindex
X-PUBLISHED-TTL:PT1H
BEGIN:VTIMEZONE
TZID:Asia/Kuala_Lumpur
BEGIN:STANDARD
TZOFFSETFROM:+0800
TZOFFSETTO:+0800
TZNAME:+08
DTSTART:20210101T000000
END:STANDARD
END:VTIMEZONE
BEGIN:VEVENT
DTSTART;TZID=Asia/Kuala_Lumpur:20211120T100000
DTEND;TZID=Asia/Kuala_Lumpur:20211120T121000
DTSTAMP:20260425T225005
CREATED:20211115T162010Z
LAST-MODIFIED:20221229T090715Z
UID:2787-1637402400-1637410200@mndmalaysia.org
SUMMARY:10th-Series (AM-Session for HealthCare Professionals) - Topic: Emergencies At Home
DESCRIPTION:>> AM-Session for HealthCare Professional (HCP) >> REGISTRATION >> LIVE WEBINAR on 10th-Series (20th-NOVEMBER’2021/Saturday) @ 10:00am to 12:10pm\nJoin Us in our “MND BEYOND BORDERS – the educational series” All you want to know about “Motor Neurone Disease (MND)\nTopic: Emergencies At Home\n\n(AM-Session for HealthCare Professionals) – Topic: Emergencies At Home\nOn 20th-November’2021 (Saturday)\, our morning AM-Session (10:00am to 12:10pm) for HealthCare Professionals (HCP) with the topic of the day on “Emergencies At Home”; by speakers Dr. Chan Yeow and Ms. Lydia Soon from Tan Tock Seng Hospital\, Singapore.\nREGISTER NOW to join this 10th-Series LIVE WEBINAR of our “MND BEYOND BORDERS the educational series”.\n(1) Dr. Chan Yeow is no stranger to the MND society.  He is a Senior Consultant in the Department of Anaesthesiology\, Intensive Care and Pain Medicine\, Tan Tock Seng Hospital.  He is the Director\, Home Ventilation and Respiratory Sipport Service and Chairperson\,  Hospital Tracheostomy Workgroup.  We are thrilled to have an expert with his caliber to speak with us today!\n(2) Ms. Lydia Soon is a senior staff nurse in the home ventilation respiratory support team since 2015\, with background experience as a ICU nurse for almost a decade.  She received her undergraduate training in Australia and Advance Diploma in Singapore.  We are proud to have her enlighten us on managing tracheostomy emergencies at home.\nThis is a morning AM-Session webinar for HealthCare Provider (HCP) and it’s FREE-to-Join with registration\, please refer to the required session details below for your registration.\nAny enquiries about our “MND BEYOND BORDERS – the educational series”\, please email us at: >> mndmalaysia.edu@gmail.com <<\n\nTo REGISTER for AM-Session for “HealthCare Profesional (HCP) @ 10:00am – 12:10pm (Malaysia Time) please click on the picture-link below to register.\n>> if you are looking to register for PM-Session (for PALS & CALS) @ 2:00pm – 3:30pm\, please CLICK-HERE << \n\n*FREE-to-join-Webinar-with-Registration*\n************************************************************************************************************************************ \n\nREGISTRATION for morning AM-Session for HealthCare Professional (HCP)\n\n1) AM-SESSION (for HCP – HealthCare Professionals)\n\nDate: 20th-November-2021 (Saturday)\n\nSession-Time: 10:00am to 12:10pm (UTC/GMT +8 hours)\n \n\n*CLICK PICTURE or SCAN-QR-CODE TO REGISTER*\nRegister AM-Session\n  \nTopic: Emergencies At Home\n************************************************************************************************************************************ \n  \n\nORGANIZED BY:\n\n\n\nTTSH Home Ventilation Respiratory Support Service – HVRSS\n\n\n  \n\n\n\nYayasan ALS Indonesia \n\n\nMND Malaysia\n\n\n\n\n\n  \n\n************************************************************************************************************************************ \n  \n\nTO KNOW WHAT MOTOR NEURONE DISEASE (MND) IS….. CLICK HERE\nwe are MND Malaysia
URL:https://mndmalaysia.org/en_gb/event/10th-series-am-session-for-healthcare-professionals-topic-emergencies-at-home/
LOCATION:Zoom
CATEGORIES:Awareness,Charity,Educational,Forum,Fundraising
ATTACH;FMTTYPE=image/png:https://mndmalaysia.org/wp-content/uploads/2021/11/10.-MNDBB-HCP-20.11.21-pdf-1.png
END:VEVENT
BEGIN:VEVENT
DTSTART;TZID=Asia/Kuala_Lumpur:20211120T140000
DTEND;TZID=Asia/Kuala_Lumpur:20211120T153000
DTSTAMP:20260425T225005
CREATED:20211115T163449Z
LAST-MODIFIED:20221229T090414Z
UID:2792-1637416800-1637422200@mndmalaysia.org
SUMMARY:10th-Series (PM-Session for PALS & CALS) - Topic: Emergencies At Home
DESCRIPTION:>> PM-Session for PALS & CALS >> REGISTRATION >> LIVE WEBINAR on 10th-Series (20th-NOVEMBER’2021/Saturday) @ 2:00pm to 3:30pm\nJoin Us in our “MND BEYOND BORDERS – the educational series” All you want to know about “Motor Neurone Disease (MND)\nTopic: Emergencies At Home\n\n(PM-Session for PALS & CALS) – Topic: Emergencies At Home\nOn 20th-November’2021 (Saturday)\, our afternoon PM-Session (2:00pm to 3:30pm) for PALS & CALS (Patients & Carers) with the topic of the day on “Emergencies At Home”; by speaker Ms. Lydia Soon from Tan Tock Seng Hospital\, Singapore.\nREGISTER NOW to join this 9th-Series LIVE WEBINAR of our “MND BEYOND BORDERS the educational series”.\n(1) M.s Lydia Soon is a senior staff nurse in the home ventilation respiratory support team since 2015\, with background experience as a ICU nurse for almost a decade.  She holds a bachelor in Nursing from Curtin University of Technology (Australia) and Advance Diploma in Nursing (Critical Care) from Nanyang Polytechnic (Singapore).  We are proud to have her enlighten us on managing breathing emergencies at home.\nThis is an afternoon PM-Session webinar for PALS & CALS and it’s FREE-to-Join with registration\, please refer to the required session details below for your registration.\nAny enquiries about our “MND BEYOND BORDERS – the educational series”\, please email us >> mndmalaysia.edu@gmail.com <<\n \n\nfor PM-Session for “PALS & CALS” @ 2:00pm – 3:30pm (Malaysia Time) please click on the picture-link below to JOIN on event day.\n>> To Register for AM-Session for HealthCare Provide (HCP) @ 10pm – 12.10pm\, please CLICK-HERE << \n \n \n\n*FREE-to-join-Webinar-with-Registration*\n************************************************************************************************************************************ \n\nZOOM-LINK for afternoon PM-Session for PALS & CALS\n \n\n1) PM-SESSION (for PALS & CALS)\n \n\nDate: 20th-November-2021 (Saturday)\n \n\nSession-Time 2:00pm to 3:30pm (UTC/GMT +8 hours)\n \n\n*CLICK PICTURE or SCAN-QR-CODE TO JOIN on event day*\nRegister AM-Session\n  \nTopic: Emergencies At Home\n  \n\n************************************************************************************************************************************ \n  \n\nORGANIZED BY:\n\n\n\n\n\n\nTTSH Home Ventilation Respiratory Support Service – HVRSS\n\n\n  \n\n\n\nYayasan ALS Indonesia  MND Malaysia \n\n\n  \n\n************************************************************************************************************************************ \n\nTO KNOW WHAT MOTOR NEURONE DISEASE (MND) IS….. CLICK HERE\nwe are MND Malaysia
URL:https://mndmalaysia.org/en_gb/event/10th-series-pm-session-for-pals-cals-topic-emergencies-at-home/
LOCATION:Zoom
CATEGORIES:Awareness,Charity,Educational,Forum,Fundraising
ATTACH;FMTTYPE=image/png:https://mndmalaysia.org/wp-content/uploads/2021/11/10.-MNDBB-HCP-20.11.21-pdf-2.png
END:VEVENT
END:VCALENDAR