BEGIN:VCALENDAR
VERSION:2.0
PRODID:-//MND Malaysia - ECPv6.3.7//NONSGML v1.0//EN
CALSCALE:GREGORIAN
METHOD:PUBLISH
X-ORIGINAL-URL:https://mndmalaysia.org/en_gb
X-WR-CALDESC:Events for MND Malaysia
REFRESH-INTERVAL;VALUE=DURATION:PT1H
X-Robots-Tag:noindex
X-PUBLISHED-TTL:PT1H
BEGIN:VTIMEZONE
TZID:Asia/Kuala_Lumpur
BEGIN:STANDARD
TZOFFSETFROM:+0800
TZOFFSETTO:+0800
TZNAME:+08
DTSTART:20210101T000000
END:STANDARD
END:VTIMEZONE
BEGIN:VEVENT
DTSTART;TZID=Asia/Kuala_Lumpur:20210918T100000
DTEND;TZID=Asia/Kuala_Lumpur:20210918T121000
DTSTAMP:20260425T232856
CREATED:20210911T145735Z
LAST-MODIFIED:20221229T092257Z
UID:2747-1631959200-1631967000@mndmalaysia.org
SUMMARY:8th-Series (AM-Session for HealthCare Professionals) - Topic: Medical Ethics
DESCRIPTION:>> AM-Session for HealthCare Professional (HCP) >> REGISTRATION >> LIVE WEBINAR on 8th-Series (18th-SEPTEMBER’2021/Saturday) @ 10:00am to 12:10pm\nJoin Us in our “MND BEYOND BORDERS – the educational series” All you want to know about “Motor Neurone Disease (MND)\nTopic: Medical Ethics\n\n(AM-Session for HealthCare Professionals) – Topic: Medical Ethics\nOn 18th-September’2021 (Saturday)\, our morning AM-Session (10:00am to 12:10pm) for HealthCare Professionals (HCP) with the topic of the day on “Medical Ethics”; by Dr. Lam Chee Loong from University of Malaya\, Malaysia.\nREGISTER NOW to join this 8th-Series LIVE WEBINAR of our “MND BEYOND BORDERS the educational series”.\nDr. Lam Chee Loong is the head of Palliative Care Unit at University of Malaya\, Malaysia. He is also the chairperson in Malaysian Hospice Council.  His dedication to his craft is evidenced by multiple local and international publications.  One of his contribution on ethics in end-of-life care was publicshed in the handbook of Geriatric Medicine.  We are honoured to have such a passionate and excellent speaker to talk about a topic we all struggle with- ETHICS.\nThis is a morning AM-Session webinar for HealthCare Provider (HCP) and it’s FREE-to-Join with registration\, please refer to the required session details below for your registration.\nAny enquiries about our “MND BEYOND BORDERS – the educational series”\, please email us at: >> mndmalaysia.edu@gmail.com <<\n \n \n\nTo REGISTER for AM-Session for “HealthCare Profesional (HCP) @ 10:00am – 12:10pm (Malaysia Time) please click on the picture-link below to register.\n>> if you are looking to register for PM-Session (for PALS & CALS) @ 2:00pm – 3:30pm\, please CLICK-HERE << \n \n\n*FREE-to-join-Webinar-with-Registration*\n************************************************************************************************************************************ \n\nREGISTRATION for morning AM-Session for HealthCare Professional (HCP)\n \n\n1) AM-SESSION (for HCP – HealthCare Professionals)\n\nDate: 18th-September-2021 (Saturday)\n\nSession-Time: 10:00am to 12:10pm (UTC/GMT +8 hours)\n\n*CLICK PICTURE or SCAN-QR-CODE TO REGISTER*\nAM-Session Registration\n \n(MORNING) AM-Session for HealthCare Professional (HCP) @ 10:00am to 12:10pm \n\n  \n************************************************************************************************************************************ \n  \n\nORGANIZED BY:\n\n\n\nTTSH Home Ventilation Respiratory Support Service – HVRSS\n\n\n\n\n\nYayasan ALS Indonesia \n\n\nMND Malaysia\n\n\n\n\n\n  \n\n************************************************************************************************************************************ \n  \n\nTO KNOW WHAT MOTOR NEURONE DISEASE (MND) IS….. CLICK HERE\nwe are MND Malaysia
URL:https://mndmalaysia.org/en_gb/event/8th-series-am-session-for-healthcare-professionals-topic-medical-ethics/
LOCATION:Zoom
CATEGORIES:Awareness,Charity,Educational,Forum,Fundraising
ATTACH;FMTTYPE=image/png:https://mndmalaysia.org/wp-content/uploads/2021/09/8.-MNDBB-HCP-18.9.21-pdf-1.png
END:VEVENT
BEGIN:VEVENT
DTSTART;TZID=Asia/Kuala_Lumpur:20210918T100000
DTEND;TZID=Asia/Kuala_Lumpur:20210918T121000
DTSTAMP:20260425T232856
CREATED:20210911T145802Z
LAST-MODIFIED:20221229T092633Z
UID:2754-1631959200-1631967000@mndmalaysia.org
SUMMARY:8th-Series (PM-Session for PALS & CALS) - Topic: Self-Care
DESCRIPTION:>> PM-Session for PALS & CALS >> REGISTRATION >> LIVE WEBINAR on 8th-Series (18th-SEPTEMBER’2021/Saturday) @ 2:00pm to 3:30pm\nJoin Us in our “MND BEYOND BORDERS – the educational series” All you want to know about “Motor Neurone Disease (MND)\nTopic: Self-Care\n\n(PM-Session for PALS & CALS) – Topic: Self-Care\nOn 18th-September’2021 (Saturday)\, our afternoon PM-Session (2:00pm to 3:30pm) for PALS & CALS (Patients & Carers) topic of the day is “Self-Care”; by Associate Prof. Dr. Tan Seng Beng.\nREGISTER NOW to join this 8th-Series LIVE WEBINAR of “MND BEYOND BORDERS”.\nAssociate Prof. Dr. Tan Seng Beng is a Palliative Care Consultant in University of Malaya\, Malaysia.  His work in mindfulness is world renowned.  He has numerous local & international journals in his name.  Not to mention\, he is the author of “The Little Handbook of Palliative Care” and has a whole chapter dedicated on Self-Care – “Caring of oneself and caring for others are inseparable.  If we cannot take good care of ourselves\, we cannot take good care of others.”  Count our lucky stars\, he will be sharing on this topic.\nThis is an afternoon PM-Session webinar for PALS & CALS and it’s FREE-to-Join with registration\, please refer to the required session details below for your registration.\nAny enquiries about our “MND BEYOND BORDERS – the educational series”\, please email us >> mndmalaysia.edu@gmail.com <<\n\nTo REGISTER for PM-Session for “PALS & CALS” @ 2:00pm – 3:30pm (Malaysia Time) please click on the picture-link below to register.\n>> To Register for AM-Session for HealthCare Provide (HCP) @ 10pm – 12.10pm\, please CLICK-HERE << \n\n*FREE-to-join-Webinar-with-Registration*\n************************************************************************************************************************************ \n\nREGISTRATION for afternoon PM-Session for PALS & CALS\n \n\n1) PM-SESSION (for PALS & CALS)\n \n\nDate: 18th-September-2021 (Saturday)\n\nSession-Time 2:00pm to 3:30pm (UTC/GMT +8 hours)\n \n\n*CLICK PICTURE or SCAN-QR-CODE TO REGISTER*\nPM-Session Registration\n\n(Afternoon) PM-Session for PALS&CALS @ 2:00pm to 3:30pm\n************************************************************************************************************************************ \n\nORGANIZED BY:\n\n\n\n\n\n\nTTSH Home Ventilation Respiratory Support Service – HVRSS\n\n\n\n\n\nYayasan ALS Indonesia  MND Malaysia\n\n\n\n************************************************************************************************************************************ \n\nTO KNOW WHAT MOTOR NEURONE DISEASE (MND) IS….. CLICK HERE\nwe are MND Malaysia
URL:https://mndmalaysia.org/en_gb/event/8th-series-pm-session-for-pals-cals-topic-self-care/
LOCATION:Zoom
CATEGORIES:Awareness,Charity,Educational,Forum,Fundraising
ATTACH;FMTTYPE=image/png:https://mndmalaysia.org/wp-content/uploads/2021/09/8.-MNDBB-PALSCALS-18.9.21-pdf-2.png
END:VEVENT
END:VCALENDAR