BEGIN:VCALENDAR
VERSION:2.0
PRODID:-//MND Malaysia - ECPv6.3.7//NONSGML v1.0//EN
CALSCALE:GREGORIAN
METHOD:PUBLISH
X-ORIGINAL-URL:https://mndmalaysia.org/en_gb
X-WR-CALDESC:Events for MND Malaysia
REFRESH-INTERVAL;VALUE=DURATION:PT1H
X-Robots-Tag:noindex
X-PUBLISHED-TTL:PT1H
BEGIN:VTIMEZONE
TZID:Asia/Kuala_Lumpur
BEGIN:STANDARD
TZOFFSETFROM:+0800
TZOFFSETTO:+0800
TZNAME:+08
DTSTART:20220101T000000
END:STANDARD
END:VTIMEZONE
BEGIN:VEVENT
DTSTART;TZID=Asia/Kuala_Lumpur:20220409T100000
DTEND;TZID=Asia/Kuala_Lumpur:20220409T123000
DTSTAMP:20260425T195701
CREATED:20220407T160305Z
LAST-MODIFIED:20221229T075938Z
UID:2913-1649498400-1649507400@mndmalaysia.org
SUMMARY:15th-Series (AM-Session for HealthCare Professionals) - BEREAVEMENT
DESCRIPTION:>> AM-Session for HealthCare Professional (HCP) >> REGISTRATION >> LIVE WEBINAR on 15th-Series (09th-APRIL’2022/Saturday) @ 10:00am to 12:10pm\nJoin Us in our “MND BEYOND BORDERS – the educational series” All you want to know about “Motor Neurone Disease (MND)\nTopic: Bereavement\n\n(AM-Session for HealthCare Professionals) – Topic: BEREAVEMENT\nOn 09th-APRIL’2022 (Saturday)\, our morning AM-Session (10:00am to 12:10pm) for HealthCare Professionals (HCP) we’ll be covering the topic of “BEREAVEMENT” in our LIVE webinar session by doctor speakers Dr. Ng Woon Fang and Case Presentation by Dr. Yong Chee Shion\nREGISTER NOW to join this 15th-Series LIVE WEBINAR of our “MND BEYOND BORDERS the educational series”.\n(BEREAVEMENT) ~ Dr. Ng Woon Fang is a Palliative Care Physician in Malaysia and a committee member of MND society.  Her tireless work within the community is echoed through her service as co-founder of Faith Hope Love (FHL) Hospice Care.  Futhermore\, she holds a significant post as the manager of Bereavement Support Group for Safe Space COVID-19 Malaysia.  We value Dr. Ng’s experience in matters of bereavement care.\n(CASE PRESENTATION) ~ Dr. Yong Chee Shion is a palliative care doctor in Malaysia.  He will share a case presentation on MND.\nThis is a morning AM-Session webinar for HealthCare Provider (HCP) and it’s FREE-to-Join with registration\, please refer to the required session details below for your registration.\nAny enquiries about our “MND BEYOND BORDERS – the educational series”\, please email us at: >> mndmalaysia.edu@gmail.com <<\n \n\nTo REGISTER for AM-Session for “HealthCare Profesional (HCP) @ 10:00am – 12:10pm (Malaysia Time) please click on the picture-link below to register.\n>> if you are looking for PM-Session (for PALS & CALS) @ 2:00pm – 3:30pm\, please CLICK-HERE << \n\n*FREE-to-join-Webinar-with-Registration*\n************************************************************************************************************************************ \n\nREGISTRATION for morning AM-Session for HealthCare Professional (HCP)\n \n\n1) AM-SESSION (for HCP – HealthCare Professionals)\n\nDate: 09th-April-2022 (Saturday)\n\nSession-Time: 10:00am to 12:10pm (UTC/GMT +8 hours)\n\n*CLICK PICTURE or SCAN-QR-CODE TO REGISTER*\nTopic: Bereavement\n  \nRegister AM-Session\n************************************************************************************************************************************ \n  \n\nORGANIZED BY:\n  \n\n \n  \n\n\n\nTTSH Home Ventilation Respiratory Support Service – HVRSS\n\n\n  \n\n\n\nYayasan ALS Indonesia \n\n\nMND Malaysia\n\n\n\n\n\n  \n\n************************************************************************************************************************************ \n  \n\nTO KNOW WHAT MOTOR NEURONE DISEASE (MND) IS….. CLICK HERE\nwe are MND Malaysia
URL:https://mndmalaysia.org/en_gb/event/15th-series-am-session-for-healthcare-professionals-bereavement/
LOCATION:Zoom
CATEGORIES:Awareness,Charity,Educational,Forum,Fundraising
END:VEVENT
BEGIN:VEVENT
DTSTART;TZID=Asia/Kuala_Lumpur:20220409T140000
DTEND;TZID=Asia/Kuala_Lumpur:20220409T153000
DTSTAMP:20260425T195701
CREATED:20220407T161721Z
LAST-MODIFIED:20221229T075340Z
UID:2918-1649512800-1649518200@mndmalaysia.org
SUMMARY:15th-Series (PM-Session for PALS & CALS) - NURSING CARE IN MND
DESCRIPTION:>>PM-Session for Patients & Carers (PALS & CALS) >> REGISTRATION >> LIVE WEBINAR on 15th-Series (09th-APRIL’2022/Saturday) @ 2:00pm to 3:30pm\nJoin Us in our “MND BEYOND BORDERS – the educational series” All you want to know about “Motor Neurone Disease (MND)\nTopic: Nursing Care\n\n(PM-Session for Patients & Carers) – Topic: NURSING CARE IN MND\nOn 09th-APRIL’2022 (Saturday)\, our afternoon PM-Session (2:00pm to 3:30pm) for PALS & CALS. We’ll be covering the topic of “NURSING CARE IN MND” in our LIVE webinar session by doctor speakers Dr. Fakriah Abu Bakar\nREGISTER NOW to join this 15th-Series LIVE WEBINAR of our “MND BEYOND BORDERS the educational series”.\n(NURSING CARE) ~ Dr. Fakriah Abu Bakar is a Palliative Care doctor in Malaysia.  She graduated from University College of Dublin\, Ireland and obtained Masters in Internal Medicine from UKM\, Malaysia.  Just as Palliative Care is everyone’s business\, so is nursing care for our MND patients.  We appreciate Dr. Fakriah’s experience on this matter.\nThis is a morning PM-Session webinar for PALS & CALS and it’s FREE-to-Join (click the event banner below or scan the QR code).\nAny enquiries about our “MND BEYOND BORDERS – the educational series”\, please email us at: >> mndmalaysia.edu@gmail.com <<\n \n\nfor PM-Session for “PALS & CALS” @ 2:00pm – 3:30pm (Malaysia Time) please click on the picture-link below to JOIN on event day.\n>> To Register for AM-Session for HealthCare Provide (HCP) @ 10pm – 12.10pm\, please CLICK-HERE << \n\n*FREE-to-join-Webinar-with-Registration*\n************************************************************************************************************************************ \n\nREGISTRATION for afternoon PM-Session for Patients & Carers (PALS & CALS)\n1) PM-SESSION (for PALS & CALS)\n\nDate: 09th-APRIL-2022 (Saturday)\n\nSession-Time: 2:00pm to 3:30pm (UTC/GMT +8 hours)\n\n*CLICK PICTURE or SCAN-QR-CODE TO REGISTER*\nTopic: Nursing Care\nRegister PM-Session\n************************************************************************************************************************************ \n\nORGANIZED BY:\n\n\n\nTTSH Home Ventilation Respiratory Support Service – HVRSS\n\n\n\n\n\nYayasan ALS Indonesia \n\n\nMND Malaysia\n\n\n\n\n\n\n************************************************************************************************************************************ \n\nTO KNOW WHAT MOTOR NEURONE DISEASE (MND) IS….. CLICK HERE\nwe are MND Malaysia
URL:https://mndmalaysia.org/en_gb/event/15th-series-pm-session-for-pals-cals-nursing-care-in-mnd/
LOCATION:Zoom
CATEGORIES:Awareness,Charity,Educational,Forum,Fundraising
END:VEVENT
END:VCALENDAR