BEGIN:VCALENDAR
VERSION:2.0
PRODID:-//MND Malaysia - ECPv6.3.7//NONSGML v1.0//EN
CALSCALE:GREGORIAN
METHOD:PUBLISH
X-WR-CALNAME:MND Malaysia
X-ORIGINAL-URL:https://mndmalaysia.org/en_gb
X-WR-CALDESC:Events for MND Malaysia
REFRESH-INTERVAL;VALUE=DURATION:PT1H
X-Robots-Tag:noindex
X-PUBLISHED-TTL:PT1H
BEGIN:VTIMEZONE
TZID:Asia/Kuala_Lumpur
BEGIN:STANDARD
TZOFFSETFROM:+0800
TZOFFSETTO:+0800
TZNAME:+08
DTSTART:20210101T000000
END:STANDARD
END:VTIMEZONE
BEGIN:VEVENT
DTSTART;TZID=Asia/Kuala_Lumpur:20210821T140000
DTEND;TZID=Asia/Kuala_Lumpur:20210821T153000
DTSTAMP:20260425T221433
CREATED:20210810T155404Z
LAST-MODIFIED:20221229T093052Z
UID:2714-1629554400-1629559800@mndmalaysia.org
SUMMARY:7th-Series (PM-Session for PALS & CALS) - Topic: BREATHING 3 -Preparation for Home-
DESCRIPTION:>> PM-Session for PALS & CALS >> REGISTRATION >> LIVE WEBINAR on 7th-Series (21st-AUGUST’2021/Saturday) @ 2:00pm to 3:30pm\n-All you want to know about “Motor Neurone Disease (MND)-\n“MND BEYOND BORDERS – the educational series”\nTopic: Breathing 3 -Preparation for Home-\n(PM-Session for PALS & CALS) – Topic: BREATHING 3 -Preparation for Home-\nOn 21st-August’2021 (Saturday)\, our afternoon PM-Session (2:00pm to 3:30pm) for PALS & CALS (Patients & Carers) topic of the day is “BREATHING 3 -Preparation for Home”; by our speaker from Singapore\, Ms. Lydia Soon Hse Yin.\nREGISTER NOW to join this 7th-Series LIVE WEBINAR of “MND BEYOND BORDERS”.\nLydia is a Nurse Clinician in the Home Ventilation Respiratory Support Service in Tan Tock Seng Hospital\, Singapore.  She worked in ICU for almost a decade.  She is also a facilitator for Advance Care Planning and a trainer for medical professionals.  She holds a Bachelor in Nursing from Curtin University of Technology (Australia) and Advance Diploma in Nursing (Critical Care) from Nanyang Polytechnic (Singapore).  We are privileged to have her enlighten us on home preparation for patients who require NIV or ventilator.\nThis is an afternoon PM-Session webinar for PALS & CALS and it’s FREE-to-Join with registration\, please refer to the required session details below for your registration.\nAny enquiries about our “MND BEYOND BORDERS – the educational series”\, please email us >> mndmalaysia.edu@gmail.com <<\n \n \nTo REGISTER for PM-Session for “PALS & CALS” @ 2:00pm – 3:30pm (Malaysia Time) please click on the picture-link below to register.\n>> To Register for AM-Session for HealthCare Provide (HCP) @ 10pm – 12.10pm\, please CLICK-HERE << \n \n \n*FREE-to-join-Webinar-with-Registration*\n************************************************************************************************************************************ \nREGISTRATION for afternoon PM-Session for PALS & CALS\n \n1) PM-SESSION (for PALS & CALS)\n \nDate: 21st-August-2021 (Saturday)\n \nMalaysia-Time 2:00pm to 3:30pm\n \n*CLICK PICTURE or SCAN-QR-CODE TO REGISTER*\nPM-Session Registration\n  \n(Afternoon) PM-Session for PALS & CALS @ 2:00pm-3:30pm\n  \n************************************************************************************************************************************ \n  \nORGANIZED BY:\n  \n  \n\n\n\n\nTTSH Home Ventilation Respiratory Support Service – HVRSS\n\n  \n\nYayasan ALS Indonesia \nMND Malaysia\n\n  \n************************************************************************************************************************************ \n  \nTO KNOW WHAT MOTOR NEURONE DISEASE (MND) IS….. CLICK HERE\nwe are MND Malaysia
URL:https://mndmalaysia.org/en_gb/event/7th-series-pm-session-for-pals-cals-topic-breathing-3-preparation-for-home/
LOCATION:Zoom
CATEGORIES:Awareness,Charity,Educational,Forum,Fundraising
ATTACH;FMTTYPE=image/png:https://mndmalaysia.org/wp-content/uploads/2021/08/7.-MNDBB-PALS-CALS-21.8.21.png
ORGANIZER;CN="MND Malaysia":MAILTO:mndmalaysia@gmail.com
END:VEVENT
END:VCALENDAR