BEGIN:VCALENDAR
VERSION:2.0
PRODID:-//MND Malaysia - ECPv6.3.7//NONSGML v1.0//EN
CALSCALE:GREGORIAN
METHOD:PUBLISH
X-WR-CALNAME:MND Malaysia
X-ORIGINAL-URL:https://mndmalaysia.org/en_gb
X-WR-CALDESC:Events for MND Malaysia
REFRESH-INTERVAL;VALUE=DURATION:PT1H
X-Robots-Tag:noindex
X-PUBLISHED-TTL:PT1H
BEGIN:VTIMEZONE
TZID:Asia/Kuala_Lumpur
BEGIN:STANDARD
TZOFFSETFROM:+0800
TZOFFSETTO:+0800
TZNAME:+08
DTSTART:20220101T000000
END:STANDARD
END:VTIMEZONE
BEGIN:VEVENT
DTSTART;TZID=Asia/Kuala_Lumpur:20221105T140000
DTEND;TZID=Asia/Kuala_Lumpur:20221105T153000
DTSTAMP:20260424T150741
CREATED:20221102T141118Z
LAST-MODIFIED:20221102T141118Z
UID:3099-1667656800-1667662200@mndmalaysia.org
SUMMARY:22nd-Series (PM-Session for PALS & CALS) ~ "Penjagaan lanjut MND/ALS"
DESCRIPTION:>>PM-Session for Patients & Carers (PALS & CALS) >> REGISTRATION >> LIVE WEBINAR on 22nd-Series (5th-NOVEMBER’2022/Saturday) @ 2:00pm to 3:30pm\nJoin Us in our “MND BEYOND BORDERS – the educational series” All you want to know about “Motor Neurone Disease (MND)\n\n\n(PM-Session for Patients & Carers) – Topic: Penjagaan lanjut MND/ALS\nOn 5th-NOVEMBER’2022 (Saturday)\, our afternoon PM-Session (2:00pm to 3:30pm) for PALS & CALS. We’ll be covering the topic of “Penjagaan lanjut MND/ALS” in our LIVE webinar session by Dr. Fakhirah Abu Bakar.\n***NOTE: SESSION LANGUAGE IN BAHASA INDONESIA / BAHASA MALAYSIA*** ***Webinar akan dijalankan dalam Bahasa Indonesia / Bahasa Malaysia*** \nREGISTER NOW to join this 22nd-Series LIVE WEBINAR of our “MND BEYOND BORDERS the educational series”\n(Penjagaan lanjut MND/ALS) ~ Dr. Fakhirah Abu Bakar adalah seorang doktor perubatan paliatif yang bertugas di Hospital Shah Alam. Beliau merupakan graduan dari University College of Dublin\, Ireland dan kemudianya memperoleh Ijazah Sarjana di dalam bidang Perubatan dari Universiti Kebangsaan Malaysia. Dr Fakhirah kini sedang menjalani pengkhususan di dalam bidang perubatan paliatif. Pada sesi ini\, Dr Fakhirah akan membuat pengongsian tentang ‘Nursing Care’ atau penjagaan lanjut untuk pesakit.\nThis is an afternoon PM-Session webinar for PALS & CALS and it’s FREE-to-Join (click the event banner below or scan the QR code).\nAny enquiries about our “MND BEYOND BORDERS – the educational series”\, please email us at: >> mndmalaysia.edu@gmail.com <<\n\n\n\nfor PM-Session for “PALS & CALS” @ 2:00pm – 3:30pm (Malaysia Time) please click on the picture-link below to JOIN on event day.\n>> To Register for AM-Session for HealthCare Provide (HCP) @ 10pm – 12.10pm\, please CLICK-HERE << \n \n\n\n\n*Catch-Us-On-FB LIVE-@ FB: MND Malaysia*\n************************************************************************************************************************************ \n\n\n\nCOME-JOIN-US in our afternoon PM-Session for Patients & Carers (PALS & CALS)\n1) PM-SESSION (for PALS & CALS)\n\n\n\nDate: 5th-NOVEMBER-2022 (Saturday)\n\n\n\nSession-Time: 2:00pm to 3:30pm (UTC/GMT +8 hours)\nFB-LIVE: MND Malaysia\n\n\n\n*CLICK PICTURE or SCAN-QR-CODE TO JOIN*\n \n************************************************************************************************************************************ \n\n\n \nORGANIZED BY:\n\n\n\n\n \n\nTTSH Home Ventilation Respiratory Support Service – HVRSS\n\n\n\n \n\nYayasan ALS Indonesia\n\n\nMND Malaysia\n\n\n\n\n\n\n \n************************************************************************************************************************************ \n\n\n \nFIND-US-HERE:\n\n\n\n\n\n\nInstagram (IG): mnd.malaysia\n\n\n\nFacebook (FB): MND Malaysia\n\n\n\nTwitter: MndMalaysia\n\n\n\nYoutube: Motor Neurone Disease Malaysia – MND Malaysia\n\n\n\nWeb: www.mndMalaysia.org\n\n\n\nWhatsapp / Call Us: +6017.883.8839\n\n\n\n \n\n\n\n\n\n\nTO KNOW WHAT MOTOR NEURONE DISEASE (MND) IS….. CLICK HERE\nwe are MND Malaysia\n\n\n\n 
URL:https://mndmalaysia.org/en_gb/event/22nd-series-pm-session-for-pals-cals-penjagaan-lanjut-mnd-als/
LOCATION:Zoom
CATEGORIES:Awareness,Educational,Forum
END:VEVENT
END:VCALENDAR