BEGIN:VCALENDAR
VERSION:2.0
PRODID:-//MND Malaysia - ECPv6.3.7//NONSGML v1.0//EN
CALSCALE:GREGORIAN
METHOD:PUBLISH
X-ORIGINAL-URL:https://mndmalaysia.org/en_gb
X-WR-CALDESC:Events for MND Malaysia
REFRESH-INTERVAL;VALUE=DURATION:PT1H
X-Robots-Tag:noindex
X-PUBLISHED-TTL:PT1H
BEGIN:VTIMEZONE
TZID:Asia/Kuala_Lumpur
BEGIN:STANDARD
TZOFFSETFROM:+0800
TZOFFSETTO:+0800
TZNAME:+08
DTSTART:20220101T000000
END:STANDARD
END:VTIMEZONE
BEGIN:VEVENT
DTSTART;TZID=Asia/Kuala_Lumpur:20220219T100000
DTEND;TZID=Asia/Kuala_Lumpur:20220219T121000
DTSTAMP:20260425T214519
CREATED:20220216T093111Z
LAST-MODIFIED:20221229T082243Z
UID:2876-1645264800-1645272600@mndmalaysia.org
SUMMARY:13th-Series (AM-Session for HealthCare Professionals) - ADVANCE CARE PLAN
DESCRIPTION:>> AM-Session for HealthCare Professional (HCP) >> REGISTRATION >> LIVE WEBINAR on 13th-Series (19th-FEBRUARY’2022/Saturday) @ 10:00am to 12:10pm\nJoin Us in our “MND BEYOND BORDERS – the educational series” All you want to know about “Motor Neurone Disease (MND)\nTopic: Advance Care Plan\n\n(AM-Session for HealthCare Professionals) – Topic: ADVANCE CARE PLAN\nOn 19th-FEBRUARY’2022 (Saturday)\, our morning AM-Session (10:00am to 12:10pm) for HealthCare Professionals (HCP) we’ll be covering the topic of “ADVANCE CARE PLAN” in our LIVE webinar session by doctor speakers Dr. Sheriza Izwa Zainuddin\nREGISTER NOW to join this 13th-Series LIVE WEBINAR of our “MND BEYOND BORDERS the educational series”.\n(ADVANCE CARE PLAN) ~ Dr. Sheriza Izwa Zainuddin is a Palliative Care Consultant from University of Malaya\, Malaysia with experience from New Zealand and India.  Dr Sheriza excels in her field and also an expert in renal palliative.  We are privileged to have her impart her valuable experience and knowledge on a very important conversation – Advance Care Plan.\n(CASE PRESENTATION) ~ Dr. Kweh Ting Yi is a Physician in the Palliative Care Department\, Hospital Sultanah Bahiyah\, Kedah.  He will be sharing a case presentation on MND.\nThis is a morning AM-Session webinar for HealthCare Provider (HCP) and it’s FREE-to-Join with registration\, please refer to the required session details below for your registration.\nAny enquiries about our “MND BEYOND BORDERS – the educational series”\, please email us at: >> mndmalaysia.edu@gmail.com <<\n \n\nTo REGISTER for AM-Session for “HealthCare Profesional (HCP) @ 10:00am – 12:10pm (Malaysia Time) please click on the picture-link below to register.\n>> if you are looking for PM-Session (for PALS & CALS) @ 2:00pm – 3:30pm\, please CLICK-HERE << \n \n \n\n*FREE-to-join-Webinar-with-Registration*\n************************************************************************************************************************************ \n\nREGISTRATION for morning AM-Session for HealthCare Professional (HCP)\n \n\n1) AM-SESSION (for HCP – HealthCare Professionals)\n\nDate: 19th-February-2022 (Saturday)\n\nSession-Time: 10:00am to 12:10pm (UTC/GMT +8 hours)\n\n*CLICK PICTURE or SCAN-QR-CODE TO REGISTER*\nTopic: Advance Care Plan\nRegister AM-Session\n************************************************************************************************************************************ \n  \n\nORGANIZED BY:\n\n\n\nTTSH Home Ventilation Respiratory Support Service – HVRSS\n\n\n\n\n\nYayasan ALS Indonesia \n\n\nMND Malaysia\n\n\n\n\n\n\n************************************************************************************************************************************ \n\nTO KNOW WHAT MOTOR NEURONE DISEASE (MND) IS….. CLICK HERE\nwe are MND Malaysia
URL:https://mndmalaysia.org/en_gb/event/13th-series-am-session-for-healthcare-professionals-advance-care-plan/
LOCATION:Zoom
CATEGORIES:Awareness,Charity,Educational,Forum,Fundraising
END:VEVENT
BEGIN:VEVENT
DTSTART;TZID=Asia/Kuala_Lumpur:20220219T140000
DTEND;TZID=Asia/Kuala_Lumpur:20220219T153000
DTSTAMP:20260425T214519
CREATED:20220216T095136Z
LAST-MODIFIED:20221229T081713Z
UID:2887-1645279200-1645284600@mndmalaysia.org
SUMMARY:13th-Series (PM-Session for PALS & CALS) - ADVANCE CARE PLAN
DESCRIPTION:>>PM-Session for Patients & Carers (PALS & CALS) >> REGISTRATION >> LIVE WEBINAR on 13th-Series (19th-FEBRUARY’2022/Saturday) @ 2:00pm to 3:30pm\nJoin Us in our “MND BEYOND BORDERS – the educational series” All you want to know about “Motor Neurone Disease (MND)\nTopic: Advance Care Plan\n\n(PM-Session for Patients & Carers) – Topic: ADVANCE CARE PLAN\nOn 19th-FEBRUARY’2022 (Saturday)\, our afternoon PM-Session (2:00pm to 3:30pm) for PALS & CALS. We’ll be covering the topic of “ADVANCE CARE PLAN” in our LIVE webinar session by doctor speakers Dr. Sheriza Izwa Zainuddin\nREGISTER NOW to join this 13th-Series LIVE WEBINAR of our “MND BEYOND BORDERS the educational series”.\n(ADVANCE CARE PLAN) ~ Dr. Sheriza Izwa Zainuddin is a Palliative Care Consultant from University of Malaya\, Malaysia with experience from New Zealand and India.  Dr Sheriza excels in her field and also an expert in renal palliative.  We are privileged to have her impart her valuable experience and knowledge on a very important conversation – Advance Care Plan.\nThis is a morning PM-Session webinar for PALS & CALS and it’s FREE-to-Join (click the event banner below or scan the QR code).\nAny enquiries about our “MND BEYOND BORDERS – the educational series”\, please email us at: >> mndmalaysia.edu@gmail.com <<\n \n\nfor PM-Session for “PALS & CALS” @ 2:00pm – 3:30pm (Malaysia Time) please click on the picture-link below to JOIN on event day.\n>> To Register for AM-Session for HealthCare Provide (HCP) @ 10pm – 12.10pm\, please CLICK-HERE << \n\n*FREE-to-join-Webinar-with-Registration*\n************************************************************************************************************************************ \n\nREGISTRATION for afternoon PM-Session for Patients & Carers (PALS & CALS)\n1) PM-SESSION (for PALS & CALS)\n \n\nDate: 19th-February-2022 (Saturday)\n \n\nSession-Time: 2:00pm to 3:30pm (UTC/GMT +8 hours)\n \n\n*CLICK PICTURE or SCAN-QR-CODE TO REGISTER*\nTopic: Advance Care Plan\n  \nRegister PM-Session\n************************************************************************************************************************************ \n  \n\nORGANIZED BY:\n\n\n\nTTSH Home Ventilation Respiratory Support Service – HVRSS\n\n\n\n\n\nYayasan ALS Indonesia \n\n\nMND Malaysia\n\n\n\n\n\n  \n\n************************************************************************************************************************************ \n  \n\nTO KNOW WHAT MOTOR NEURONE DISEASE (MND) IS….. CLICK HERE\nwe are MND Malaysia\n \n\n 
URL:https://mndmalaysia.org/en_gb/event/13th-series-pm-session-for-pals-cals-advance-care-plan/
LOCATION:Zoom
CATEGORIES:Awareness,Charity,Educational,Forum
END:VEVENT
END:VCALENDAR