BEGIN:VCALENDAR
VERSION:2.0
PRODID:-//MND Malaysia - ECPv6.3.7//NONSGML v1.0//EN
CALSCALE:GREGORIAN
METHOD:PUBLISH
X-ORIGINAL-URL:https://mndmalaysia.org/en_gb
X-WR-CALDESC:Events for MND Malaysia
REFRESH-INTERVAL;VALUE=DURATION:PT1H
X-Robots-Tag:noindex
X-PUBLISHED-TTL:PT1H
BEGIN:VTIMEZONE
TZID:Asia/Kuala_Lumpur
BEGIN:STANDARD
TZOFFSETFROM:+0800
TZOFFSETTO:+0800
TZNAME:+08
DTSTART:20220101T000000
END:STANDARD
END:VTIMEZONE
BEGIN:VEVENT
DTSTART;TZID=Asia/Kuala_Lumpur:20221210T140000
DTEND;TZID=Asia/Kuala_Lumpur:20221210T153000
DTSTAMP:20260424T144704
CREATED:20221206T093315Z
LAST-MODIFIED:20221227T020605Z
UID:3129-1670680800-1670686200@mndmalaysia.org
SUMMARY:23rd-Series (PM-Session for PALS & CALS) ~ "Membawa Penjagaan ke Tahap Selanjutnya"
DESCRIPTION:>>PM-Session for Patients & Carers (PALS & CALS) >> REGISTRATION >> LIVE WEBINAR on 23rd-Series (10th-DECEMBER’2022/Saturday) @ 2:00pm to 3:30pm\nJoin Us in our “MND BEYOND BORDERS – the educational series” All you want to know about “Motor Neurone Disease (MND)\n\n\n(PM-Session for Patients & Carers) – Topic: Membawa Penjagaan ke Tahap Selanjutnya\nOn 10th-DECEMBER’2022 (Saturday)\, our afternoon PM-Session (2:00pm to 3:30pm) for PALS & CALS. We’ll be covering the topic of “Membawa Penjagaan ke Tahap Selanjutnya” in our LIVE webinar session by Dr. Fakhirah Abu Bakar.\n***NOTE: SESSION LANGUAGE IN BAHASA INDONESIA / BAHASA MALAYSIA*** ***Webinar akan dijalankan dalam Bahasa Indonesia / Bahasa Malaysia*** \nREGISTER NOW to join this 23rd-Series LIVE WEBINAR of our “MND BEYOND BORDERS the educational series”\n(Membawa Penjagaan ke Tahap Selanjutnya) ~ Dr. Fakhirah Abu Bakar adalah seorang doktor perubatan paliatif. Beliau merupakan graduan dari University College of Dublin\, Ireland dan kemudianya memperoleh Ijazah Sarjana di dalam bidang Perubatan dari Universiti Kebangsaan Malaysia. Dr Fakhirah kini sedang menjalani pengkhususan di dalam bidang perubatan paliatif. Pada sesi ini\, Dr Fakhirah akan  membuat pengongsian tentang ‘Nursing Care’ atau penjagaan  lanjut untuk pesakit dengan lebih teliti serta memberi petua-petua untuk meningkatkan kualiti hidup.\nThis is an afternoon PM-Session webinar for PALS & CALS and it’s FREE-to-Join (click the event banner below or scan the QR code).\nAny enquiries about our “MND BEYOND BORDERS – the educational series”\, please email us at: >> mndmalaysia.edu@gmail.com <<\n\n\n\nfor PM-Session for “PALS & CALS” @ 2:00pm – 3:30pm (Malaysia Time) please click on the picture-link below to JOIN on event day.\n>> To Register for AM-Session for HealthCare Provide (HCP) @ 10pm – 12.10pm\, please CLICK-HERE << \n \n\n\n\n*Catch-Us-On-FB LIVE-@ FB: MND Malaysia*\n************************************************************************************************************************************ \n\n\n\nCOME-JOIN-US in our afternoon PM-Session for Patients & Carers (PALS & CALS)\n1) PM-SESSION (for PALS & CALS)\n\n\n\nDate: 10th-DECEMBER-2022 (Saturday)\n\n\n\nSession-Time: 2:00pm to 3:30pm (UTC/GMT +8 hours)\nFB-LIVE: MND Malaysia\n\n\n\n*CLICK PICTURE or SCAN-QR-CODE TO JOIN*\n \n************************************************************************************************************************************ \n\n\n \nORGANIZED BY:\n\n\n\n\n \n\nTTSH Home Ventilation Respiratory Support Service – HVRSS\n\n\n\n \n\nYayasan ALS Indonesia\n\n\nMND Malaysia\n\n\n\n\n\n\n \n************************************************************************************************************************************ \n\n\n \nFIND-US-HERE:\n\n\n\n\n\n\nInstagram (IG): mnd.malaysia\n\n\n\nFacebook (FB): MND Malaysia\n\n\n\nTwitter: MndMalaysia\n\n\n\nYoutube: Motor Neurone Disease Malaysia – MND Malaysia\n\n\n\nWeb: www.mndMalaysia.org\n\n\n\nWhatsapp / Call Us: +6017.883.8839\n\n\n\n \n\n\n\n\n\n\nTO KNOW WHAT MOTOR NEURONE DISEASE (MND) IS….. CLICK HERE\nwe are MND Malaysia\n\n\n\n 
URL:https://mndmalaysia.org/en_gb/event/23rd-series-pm-session-for-pals-cals-membawa-penjagaan-ke-tahap-selanjutnya/
LOCATION:Zoom
CATEGORIES:Awareness,Educational,Forum
END:VEVENT
END:VCALENDAR