BEGIN:VCALENDAR
VERSION:2.0
PRODID:-//MND Malaysia - ECPv6.3.7//NONSGML v1.0//EN
CALSCALE:GREGORIAN
METHOD:PUBLISH
X-WR-CALNAME:MND Malaysia
X-ORIGINAL-URL:https://mndmalaysia.org/en_gb
X-WR-CALDESC:Events for MND Malaysia
REFRESH-INTERVAL;VALUE=DURATION:PT1H
X-Robots-Tag:noindex
X-PUBLISHED-TTL:PT1H
BEGIN:VTIMEZONE
TZID:Asia/Kuala_Lumpur
BEGIN:STANDARD
TZOFFSETFROM:+0800
TZOFFSETTO:+0800
TZNAME:+08
DTSTART:20240101T000000
END:STANDARD
END:VTIMEZONE
BEGIN:VEVENT
DTSTART;TZID=Asia/Kuala_Lumpur:20240629T090000
DTEND;TZID=Asia/Kuala_Lumpur:20240629T120000
DTSTAMP:20260423T045710
CREATED:20240601T054941Z
LAST-MODIFIED:20240606T080148Z
UID:4280-1719651600-1719662400@mndmalaysia.org
SUMMARY:[OK i love U] Ice Bucket Challenge
DESCRIPTION:The Ice Bucket Challenge is back. In conjunction of MND Malaysia 10th Anniversary\, MND Malaysia and ATV News 亚洲电视新闻 jointly organize this event. This meaningful event will take place on Saturday\, June 29th\, at Padang Timur\, Petaling Jaya\, Selangor\, Malaysia. \n\n\n\nWe are honored to announce that famous Chinese actress Fan Bingbing will serve as the event ambassador. Known for her philanthropic spirit\, Fan Bingbing brings her influence to Malaysia to support patients battling this relentless terminal disease. Through her role as the ambassador for the “OK I Love U” Ice Bucket Challenge\, she hopes to inspire widespread participation and support through her online presence. \n\n\n\n \n\n\n\nAdditionally\, Minister of Transport (Malaysia)\, Yang Berhormat Anthony Loke Siew Fook Petaling Jaya & Member of Parliament Lee Chean Chung will be the Guest of Honour to grace the event.  \n\n\n\nTo participate\, please complete the registration form available at this link; https://forms.gle/hcNxiMcUHSF2mKZ39 and pay the registration fee: \n\n\n\nRegistration Fee:  \n\n\n\n\nRM20 per participant (including an e-certificate & memento)\n\n\n\nFor student: RM10 per participant (including an e-certificate & memento)\n\n\n\nLimited edition T-shirt (optional): RM30/piece \n\n\n\n\n \n\n\n\n \n\n\n\nOnly 500 pieces of the Ice Bucket Challenge 2024 limited edition microfiber T-shirt are available for grab! Don’t miss out on this exclusive memento! \n\n\n\n  \n\n\n\nWe call upon everyone to come together\, warm our hearts\, and fully support the resilient “frozen warriors” who face MND with unwavering courage. \n\n\n\nFor more info about the event\, visit our website; https://mndmalaysia.org/en_gb/icebucketchallenge2024/
URL:https://mndmalaysia.org/en_gb/event/ok-i-love-u-ice-bucket-challenge/
END:VEVENT
END:VCALENDAR