BEGIN:VCALENDAR
VERSION:2.0
PRODID:-//MND Malaysia - ECPv6.3.7//NONSGML v1.0//EN
CALSCALE:GREGORIAN
METHOD:PUBLISH
X-WR-CALNAME:MND Malaysia
X-ORIGINAL-URL:https://mndmalaysia.org/en_gb
X-WR-CALDESC:Events for MND Malaysia
REFRESH-INTERVAL;VALUE=DURATION:PT1H
X-Robots-Tag:noindex
X-PUBLISHED-TTL:PT1H
BEGIN:VTIMEZONE
TZID:Asia/Kuala_Lumpur
BEGIN:STANDARD
TZOFFSETFROM:+0800
TZOFFSETTO:+0800
TZNAME:+08
DTSTART:20230101T000000
END:STANDARD
END:VTIMEZONE
BEGIN:VEVENT
DTSTART;TZID=Asia/Kuala_Lumpur:20231103T103000
DTEND;TZID=Asia/Kuala_Lumpur:20231103T220000
DTSTAMP:20260423T124906
CREATED:20230905T153014Z
LAST-MODIFIED:20230905T153026Z
UID:3534-1699007400-1699048800@mndmalaysia.org
SUMMARY:Xpats Golf Charity Day
DESCRIPTION:4 years ago\, a group of Xpats Golf Community members had been organizing golf tournaments to raise funds for MND Malaysia. Since then\, it has become an annual event. The total donation collected over the years is RM269\,900. \n\n\n\nThis year will be the 5th event which will be held at Sungai Long Golf Club on 3rd November 2023. For more information\, please refer to the flyer below. \n\n\n\nTo register\, please contact Clive Gordon at 011-1639 3793 or xpatsgc@gmail.com \n\n\n\nMND Malaysia would like to take this opportunity to express our heartfelt gratitude for the continuous support by Xpats Golf Community. \n\n\n\n#mndmalaysia #MND #ALS #xpats #golfcommunity #golfcharityevent #charity #raisefunds
URL:https://mndmalaysia.org/en_gb/event/xpats-golf-charity-day/
CATEGORIES:Charity,Fundraising
ATTACH;FMTTYPE=image/jpeg:https://mndmalaysia.org/wp-content/uploads/2023/09/WhatsApp-Image-2023-09-05-at-21.16.51.jpeg
END:VEVENT
END:VCALENDAR