BEGIN:VCALENDAR
VERSION:2.0
PRODID:-//MND Malaysia - ECPv6.3.7//NONSGML v1.0//EN
CALSCALE:GREGORIAN
METHOD:PUBLISH
X-ORIGINAL-URL:https://mndmalaysia.org/en_gb
X-WR-CALDESC:Events for MND Malaysia
REFRESH-INTERVAL;VALUE=DURATION:PT1H
X-Robots-Tag:noindex
X-PUBLISHED-TTL:PT1H
BEGIN:VTIMEZONE
TZID:Asia/Kuala_Lumpur
BEGIN:STANDARD
TZOFFSETFROM:+0800
TZOFFSETTO:+0800
TZNAME:+08
DTSTART:20220101T000000
END:STANDARD
END:VTIMEZONE
BEGIN:VEVENT
DTSTART;TZID=Asia/Kuala_Lumpur:20220312T100000
DTEND;TZID=Asia/Kuala_Lumpur:20220312T123000
DTSTAMP:20260425T002917
CREATED:20220306T100948Z
LAST-MODIFIED:20221229T080938Z
UID:2894-1647079200-1647088200@mndmalaysia.org
SUMMARY:14th-Series (AM-Session for HealthCare Professionals) - SPIRITUALITY
DESCRIPTION:>> AM-Session for HealthCare Professional (HCP) >> REGISTRATION >> LIVE WEBINAR on 14th-Series (12th-MARCH’2022/Saturday) @ 10:00am to 12:10pm\nJoin Us in our “MND BEYOND BORDERS – the educational series” All you want to know about “Motor Neurone Disease (MND)\nTopic: SPIRITUALITY\n  \n\n(AM-Session for HealthCare Professionals) – Topic: ADVANCE CARE PLAN\nOn 12th-MARCH’2022 (Saturday)\, our morning AM-Session (10:00am to 12:10pm) for HealthCare Professionals (HCP) we’ll be covering the topic of “SPIRITUALITY” in our LIVE webinar session by doctor speakers Dr. David Paul Capelle and Case Presentation by Dr. Jee Rou Chen\nREGISTER NOW to join this 14th-Series LIVE WEBINAR of our “MND BEYOND BORDERS the educational series”.\n(SPIRITUALITY) ~ Dr. David Paul Capelle is a Palliative Care fellow from University of Malaya\, Malaysia.  He graduated from Hannover Medical School in Germany and proceeded with MRCP\, UK.  Attention to the spiritual dimension of what patients and families experience is an intrinsic part of palliative care.  We are privileged to have Dr. David tackle this challenging topic – SPIRITUALITY.\n(CASE PRESENTATION) ~ Dr. Jee Rou Chen heads the rehabilitation medicine department in Sibu General Hospital\, Sarawak.  He will share a case presentation on MND.\nThis is a morning AM-Session webinar for HealthCare Provider (HCP) and it’s FREE-to-Join with registration\, please refer to the required session details below for your registration.\nAny enquiries about our “MND BEYOND BORDERS – the educational series”\, please email us at: >> mndmalaysia.edu@gmail.com <<\n \n\nTo REGISTER for AM-Session for “HealthCare Profesional (HCP) @ 10:00am – 12:10pm (Malaysia Time) please click on the picture-link below to register.\n>> if you are looking for PM-Session (for PALS & CALS) @ 2:00pm – 3:30pm\, please CLICK-HERE << \n \n \n\n*FREE-to-join-Webinar-with-Registration*\n************************************************************************************************************************************ \n\nREGISTRATION for morning AM-Session for HealthCare Professional (HCP)\n \n\n1) AM-SESSION (for HCP – HealthCare Professionals)\n\nDate: 12th-March-2022 (Saturday)\n\nSession-Time: 10:00am to 12:10pm (UTC/GMT +8 hours)\n\n*CLICK PICTURE or SCAN-QR-CODE TO REGISTER*\nTopic: SPIRITUALITY\n  \nRegister AM-Session\n************************************************************************************************************************************ \n  \n\nORGANIZED BY:\n\n\n\nTTSH Home Ventilation Respiratory Support Service – HVRSS\n\n\n  \n\n\n\nYayasan ALS Indonesia \n\n\nMND Malaysia\n\n\n\n\n\n\n************************************************************************************************************************************ \n\nTO KNOW WHAT MOTOR NEURONE DISEASE (MND) IS….. CLICK HERE\nwe are MND Malaysia
URL:https://mndmalaysia.org/en_gb/event/14th-series-am-session-for-healthcare-professionals-spirituality/
LOCATION:Zoom
CATEGORIES:Awareness,Charity,Forum,Fundraising,Training,Workshop
END:VEVENT
BEGIN:VEVENT
DTSTART;TZID=Asia/Kuala_Lumpur:20220312T140000
DTEND;TZID=Asia/Kuala_Lumpur:20220312T153000
DTSTAMP:20260425T002917
CREATED:20220306T102014Z
LAST-MODIFIED:20221229T080708Z
UID:2900-1647093600-1647099000@mndmalaysia.org
SUMMARY:14th-Series (PM-Session for PALS & CALS) - SPIRITUALITY
DESCRIPTION:>>PM-Session for Patients & Carers (PALS & CALS) >> REGISTRATION >> LIVE WEBINAR on 14th-Series (12th-MARCH’2022/Saturday) @ 2:00pm to 3:30pm\nJoin Us in our “MND BEYOND BORDERS – the educational series” All you want to know about “Motor Neurone Disease (MND)\nTopic: SPIRITUALITY\n\n(PM-Session for Patients & Carers) – Topic: ADVANCE CARE PLAN\nOn 12th-MARCH’2022 (Saturday)\, our afternoon PM-Session (2:00pm to 3:30pm) for PALS & CALS. We’ll be covering the topic of “SPIRITUALITY” in our LIVE webinar session by doctor speakers Dr. David Paul Capelle.\nREGISTER NOW to join this 14th-Series LIVE WEBINAR of our “MND BEYOND BORDERS the educational series”.\n(SPIRITUALITY) ~ Dr. David Paul Capelle is a Palliative Care fellow from University of Malaya\, Malaysia.  He graduated from Hannover Medical School in Germany and proceeded with MRCP\, UK.  Attention to the spiritual dimension of what patients and families experience is an intrinsic part of palliative care.  We are privileged to have Dr. David tackle this challenging topic – SPIRITUALITY.\nThis is a morning PM-Session webinar for PALS & CALS and it’s FREE-to-Join (click the event banner below or scan the QR code).\nAny enquiries about our “MND BEYOND BORDERS – the educational series”\, please email us at: >> mndmalaysia.edu@gmail.com <<\n \n\nfor PM-Session for “PALS & CALS” @ 2:00pm – 3:30pm (Malaysia Time) please click on the picture-link below to JOIN on event day.\n>> To Register for AM-Session for HealthCare Provide (HCP) @ 10pm – 12.10pm\, please CLICK-HERE << \n\n*FREE-to-join-Webinar-with-Registration*\n************************************************************************************************************************************ \n\nREGISTRATION for afternoon PM-Session for Patients & Carers (PALS & CALS)\n1) PM-SESSION (for PALS & CALS)\n\nDate: 12th-MARCH-2022 (Saturday)\n\nSession-Time: 2:00pm to 3:30pm (UTC/GMT +8 hours)\n\n*CLICK PICTURE or SCAN-QR-CODE TO REGISTER*\nTopic: SPIRITUALITY\nRegister PM-Session\n************************************************************************************************************************************ \n\nORGANIZED BY:\n\n\n\nTTSH Home Ventilation Respiratory Support Service – HVRSS\n\n\n\n\n\nYayasan ALS Indonesia \n\n\nMND Malaysia\n\n\n\n\n\n\n************************************************************************************************************************************ \n\nTO KNOW WHAT MOTOR NEURONE DISEASE (MND) IS….. CLICK HERE\nwe are MND Malaysia
URL:https://mndmalaysia.org/en_gb/event/14th-series-pm-session-for-pals-cals-spirituality/
LOCATION:Zoom
CATEGORIES:Awareness,Charity,Educational,Forum,Fundraising
END:VEVENT
END:VCALENDAR