BEGIN:VCALENDAR
VERSION:2.0
PRODID:-//MND Malaysia - ECPv6.3.7//NONSGML v1.0//EN
CALSCALE:GREGORIAN
METHOD:PUBLISH
X-WR-CALNAME:MND Malaysia
X-ORIGINAL-URL:https://mndmalaysia.org/en_gb
X-WR-CALDESC:Events for MND Malaysia
REFRESH-INTERVAL;VALUE=DURATION:PT1H
X-Robots-Tag:noindex
X-PUBLISHED-TTL:PT1H
BEGIN:VTIMEZONE
TZID:Asia/Kuala_Lumpur
BEGIN:STANDARD
TZOFFSETFROM:+0800
TZOFFSETTO:+0800
TZNAME:+08
DTSTART:20230101T000000
END:STANDARD
END:VTIMEZONE
BEGIN:VEVENT
DTSTART;TZID=Asia/Kuala_Lumpur:20230107T100000
DTEND;TZID=Asia/Kuala_Lumpur:20230107T121000
DTSTAMP:20260424T051729
CREATED:20230103T103710Z
LAST-MODIFIED:20230103T110545Z
UID:3293-1673085600-1673093400@mndmalaysia.org
SUMMARY:Finale Series (AM-Session for Healthcare Professionals): Holistic Care from Multidisciplinary team\, Assisi Hospice\, Singapore
DESCRIPTION:AM-Session for Healthcare Professionals (HCP)\n\n\n\n \n\n\n\nFinale Series: LIVE WEBINAR on 7th January 2023\, Saturday @ 10:00am to 12:10pm\n\n\n\nJoin Us in our “MND BEYOND BORDERS – the educational series: All you want to know about Motor Neurone Disease (MND)“\n\n\n\nTopic: Holistic Care from Multidisciplinary team\, Assisi Hospice\, Singapore\n\n\n\nOn 7th January 2023 (Saturday)\, our morning session (10:00am to 12:10pm) for Healthcare Professionals (HCP) we’ll be covering the topic of “Holistic Care from Multidisciplinary team\, Assisi Hospice\, Singapore” in our LIVE webinar session by Dr. Rina Nga\, Sandra Tan\, Ong Mei Yan\, Joyce Cheah\, Neo Huixin\, Tammy Lim & Vivian Wong. \n\n\n\n \n\n\n\n \n\n\n\nIt’s a FREE session. To JOIN for the AM-Session for HealthCare Professionals (HCP) @ 10:00am – 12:10pm (Malaysia Time)\, please click on the link http://tiny.cc/MNDBBHCP. \n\n\n\nIf you are looking for PM-Session (for PALS CALS) @ 2:00pm – 3:30pm\, please CLICK-HERE:  \n\n\n\n \n\n\n\nFor enquiries\, whatsApp / Call Us at +6017.883.8839
URL:https://mndmalaysia.org/en_gb/event/finale-series-am-session-for-healthcare-professionals-holistic-care-from-multidisciplinary-team-assisi-hospice-singapore/
CATEGORIES:Awareness,Educational
END:VEVENT
BEGIN:VEVENT
DTSTART;TZID=Asia/Kuala_Lumpur:20230107T140000
DTEND;TZID=Asia/Kuala_Lumpur:20230107T153000
DTSTAMP:20260424T051729
CREATED:20230103T105921Z
LAST-MODIFIED:20230103T110922Z
UID:3303-1673100000-1673105400@mndmalaysia.org
SUMMARY:Finale Series (PM-Session for PALS & CALS): Mencapai Potensi Terbaik Anda
DESCRIPTION:PM-Session for PALS & CALS\n\n\n\nFinale Series: LIVE WEBINAR on 7th January 2023 (Saturday) at 2:00pm to 3:30pm\n\n\n\nJoin Us in our “MND BEYOND BORDERS – the educational series All you want to know about Motor Neurone Disease (MND)“\n\n\n\nTopic: Mencapai Potensi Terbaik Anda\n\n\n\nOn 7th January\, 2023 (Saturday)\, our afternoon session (2:00pm to 3:30pm) for PALS & CALS will be conducted in Malay language. We will be covering the topic of “Mencapai Potensi Terbaik Anda” in our LIVE webinar session by Dr. Jevita Maria Melania Setiawan from Jakarta.   \n\n\n\n \n\n\n\nIt is a FREE session. To JOIN for PM-Session for PALS & CALS @ 2:00pm – 3:30pm (Malaysia Time) please click on the link http://tiny.cc/MNDBBPALS. \n\n\n\nIf you are looking for AM-Session (for HCP) @ 10:00am – 12:10pm\, please CLICK HERE \n\n\n\nFor enquiries\, whatsApp / Call Us at +6017.883.8839
URL:https://mndmalaysia.org/en_gb/event/finale-series-pm-session-for-pals-cals-mencapai-potensi-terbaik-anda/
CATEGORIES:Awareness,Educational
END:VEVENT
END:VCALENDAR