BEGIN:VCALENDAR
VERSION:2.0
PRODID:-//MND Malaysia - ECPv6.3.7//NONSGML v1.0//EN
CALSCALE:GREGORIAN
METHOD:PUBLISH
X-WR-CALNAME:MND Malaysia
X-ORIGINAL-URL:https://mndmalaysia.org/en_gb
X-WR-CALDESC:Events for MND Malaysia
REFRESH-INTERVAL;VALUE=DURATION:PT1H
X-Robots-Tag:noindex
X-PUBLISHED-TTL:PT1H
BEGIN:VTIMEZONE
TZID:Asia/Kuala_Lumpur
BEGIN:STANDARD
TZOFFSETFROM:+0800
TZOFFSETTO:+0800
TZNAME:+08
DTSTART:20210101T000000
END:STANDARD
END:VTIMEZONE
BEGIN:VEVENT
DTSTART;TZID=Asia/Kuala_Lumpur:20211204T100000
DTEND;TZID=Asia/Kuala_Lumpur:20211204T121000
DTSTAMP:20260426T000248
CREATED:20211129T151903Z
LAST-MODIFIED:20221229T090223Z
UID:2830-1638612000-1638619800@mndmalaysia.org
SUMMARY:11th-Series (AM-Session for HealthCare Professionals) - Topic: Moving Forwards
DESCRIPTION:>> AM-Session for HealthCare Professional (HCP) >> REGISTRATION >> LIVE WEBINAR on 11th-Series (04th-DECEMBER’2021/Saturday) @ 10:00am to 12:10pm\nJoin Us in our “MND BEYOND BORDERS – the educational series” All you want to know about “Motor Neurone Disease (MND)\nTopic: Moving Forwards\n(AM-Session for HealthCare Professionals) – Topic: Emergencies At Home\nOn 04th-December’2021 (Saturday)\, our morning AM-Session (10:00am to 12:10pm) for HealthCare Professionals (HCP) with the topic of the day on “Moving Forwards”; by speakers Dr. Ednin Hamzah\, from Hospis Malaysia.\nREGISTER NOW to join this 11th-Series LIVE WEBINAR of our “MND BEYOND BORDERS the educational series”.\n(1) Dr. Ednin Hamzah is the Chief Executive Officer of Hospis Malaysia since 1997.  Nationally he has been involved in palliative care\, cancer control and pain management and has been on the Boards of Several National Organisations.  He is active in international palliative care education and advocacy.  He is the current Vice Chairman of the Asia Pacific Hospice Palliative Care Network and a member of the Board of Trustees for the Worldwide Hospice Palliative Care Alliance.\nThis is a morning AM-Session webinar for HealthCare Provider (HCP) and it’s FREE-to-Join with registration\, please refer to the required session details below for your registration.\nAny enquiries about our “MND BEYOND BORDERS – the educational series”\, please email us at: >> mndmalaysia.edu@gmail.com <<\n \nTo REGISTER for AM-Session for “HealthCare Profesional (HCP) @ 10:00am – 12:10pm (Malaysia Time) please click on the picture-link below to register.\n>> if you are looking for PM-Session (for PALS & CALS) @ 2:00pm – 3:30pm\, please CLICK-HERE << \n \n \n*FREE-to-join-Webinar-with-Registration*\n************************************************************************************************************************************ \nREGISTRATION for morning AM-Session for HealthCare Professional (HCP)\n \n1) AM-SESSION (for HCP – HealthCare Professionals)\nDate: 04th-December-2021 (Saturday)\nSession-Time: 10:00am to 12:10pm (UTC/GMT +8 hours)\n \n*CLICK PICTURE or SCAN-QR-CODE TO REGISTER*\n  \nTopic: Moving Forwards\nRegister AM-Session \n************************************************************************************************************************************ \n  \nORGANIZED BY:\n\nTTSH Home Ventilation Respiratory Support Service – HVRSS\n\n\nYayasan ALS Indonesia  \n\nMND Malaysia\n\n\n\n************************************************************************************************************************************ \nTO KNOW WHAT MOTOR NEURONE DISEASE (MND) IS….. CLICK HERE\nwe are MND Malaysia
URL:https://mndmalaysia.org/en_gb/event/11th-series-am-session-for-healthcare-professionals-topic-moving-forwards/
LOCATION:Zoom
CATEGORIES:Awareness,Charity,Educational,Forum,Fundraising,Training
ATTACH;FMTTYPE=image/png:https://mndmalaysia.org/wp-content/uploads/2021/11/11.-MNDBB-HCP-4.12.21-pdf-1.png
END:VEVENT
BEGIN:VEVENT
DTSTART;TZID=Asia/Kuala_Lumpur:20211204T140000
DTEND;TZID=Asia/Kuala_Lumpur:20211204T153000
DTSTAMP:20260426T000248
CREATED:20211129T153113Z
LAST-MODIFIED:20221229T085449Z
UID:2836-1638626400-1638631800@mndmalaysia.org
SUMMARY:11th-Series (PM-Session for PALS & CALS) - Topic: NIV in MND
DESCRIPTION:>> PM-Session for PALS & CALS >> REGISTRATION >> LIVE WEBINAR on 11th-Series (04th-DECEMBER’2021/Saturday) @ 2:00pm to 3:30pm\nJoin Us in our “MND BEYOND BORDERS – the educational series” All you want to know about “Motor Neurone Disease (MND)\n  \n\nTopic: NIV in MND\n(PM-Session for PALS & CALS) – Topic: Emergencies At Home\nOn 04th-December’2021 (Saturday)\, our afternoon PM-Session (2:00pm to 3:30pm) for PALS & CALS (Patients & Carers) with the topic of the day on “NIV in MND”; by speaker Dr. Soo Chun Ian\, University of Malaya Medical Centre (UMMC)\, Malaysia.\nREGISTER NOW to join this 11th-Series LIVE WEBINAR of our “MND BEYOND BORDERS the educational series”.\n(1) Dr. Soo Chun Ian is a Pulmonologist at University of Malaya Medical Centre\, Malaysia.  He holds multiple local & international journals in his name.  His field of interests are Non-Invasive Ventilation and interventional pulmonology.  Due to popular demand\, he will be sharing a session on NIV in MND.\nThis is an afternoon PM-Session webinar for PALS & CALS and it’s FREE-to-Join (click the event banner below or scan the QR code).\nAny enquiries about our “MND BEYOND BORDERS – the educational series”\, please email us >> mndmalaysia.edu@gmail.com <<\n\nfor PM-Session for “PALS & CALS” @ 2:00pm – 3:30pm (Malaysia Time) please click on the picture-link below to JOIN on event day.\n>> To Register for AM-Session for HealthCare Provide (HCP) @ 10pm – 12.10pm\, please CLICK-HERE << \n  \n\n*FREE-to-join-Webinar-with-Registration*\n  \n\nZOOM-LINK for afternoon PM-Session for PALS & CALS\n\n1) PM-SESSION (for PALS & CALS)\n\nDate: 04th-December-2021 (Saturday)\n\nSession-Time 2:00pm to 3:30pm (UTC/GMT +8 hours)\n  \n\n*CLICK PICTURE or SCAN-QR-CODE TO JOIN on event day*\nTopic: NIV in MND\n  \n\nORGANIZED BY:\n\n\n\n\n\n\nTTSH Home Ventilation Respiratory Support Service – HVRSS\n\n\n\n\n\nYayasan ALS Indonesia  MND Malaysia
URL:https://mndmalaysia.org/en_gb/event/11th-series-pm-session-for-pals-cals-topic-niv-in-mnd/
LOCATION:Zoom
CATEGORIES:Awareness,Charity,Educational,Forum,Fundraising,Training
ATTACH;FMTTYPE=image/png:https://mndmalaysia.org/wp-content/uploads/2021/11/11.-MNDBB-PALS-CALS-4.12.21-PDF-1.png
END:VEVENT
END:VCALENDAR